Workbook

Sheet Sažetak 
A1: Temeljem odredbi članka 86. Zakona o proračunu (Narodne novine br. 144/21), članka 52. Pravilnika o polugodišnjem i godišnjem izvještaju o izvršenju proračuna i financijskog plana (Narodne novine br. 85/23), članka 29. Odluke o izvršavanju Proračuna Varaždinske županije za 2026. godinu (Službeni vjesnik Varaždinske županije br. 104/24) i članka 68. Statuta Osnovne škole Vinica, Školski odbor Osnovne Škole Vinica na sjednici održanoj 27. srpnja 2026. godine, donosi:
A2: POLUGODIŠNJI IZVJEŠTAJ O IZVRŠENJU FINANCIJSKOG PLANA
A3: OSNOVNE ŠKOLE VINICA
B4: ZA 2026. GODINU
A6: I. OPĆI DIO
A8: Članak 1.
A10: Sažetak polugodišnjeg izvještaja o izvršenju Financijskog plana za 2026. godinu izgleda kako slijedi:
A12: SAŽETAK RAČUNA PRIHODA I RASHODA I RAČUNA FINANCIRANJA
A13: Opis | B13: Ostvarenje / izvršenje 01.01.-30.06.2025. | C13: Izvorni plan 2026. | D13: Tekući plan 2026. | E13: Ostvarenje / izvršenje 01.01.-30.06.2026. | F13: Indeks % | G13: Indeks %
A14: 1 | B14: 2 | C14: 3 | D14: 4 | E14: 5 | F14: 6=5/2*100 | G14: 7=5/4*100
A15: A. RAČUN PRIHODA I RASHODA
A16: 6 Prihodi poslovanja | B16: 787975.38 | C16: 2320578 | D16: 2320578 | E16: 842720.72 | F16: 106.95 | G16: 36.32
A17: 3 Rashodi poslovanja | B17: 871410.41 | C17: 1731570 | D17: 1731570 | E17: 821633.27 | F17: 94.29 | G17: 47.45
A18: 4 Rashodi za nabavu nefinancijske imovine | B18: 8650.88 | C18: 589008 | D18: 589008 | E18: 855 | F18: 9.88 | G18: 0.15
A19: Razlika - višak/manjak | B19: -92085.91 | E19: 20232.45 | F19: -21.97
A20: C. PRORAČUN UKUPNO
A21: 1. PRIHODI I PRIMICI | B21: 787975.38 | C21: 2320578 | D21: 2320578 | E21: 842720.72 | F21: 106.95 | G21: 36.32
A22: 2. RASHODI I IZDACI | B22: 880061.29 | C22: 2320578 | D22: 2320578 | E22: 822488.27 | F22: 93.46 | G22: 35.44
A23: 3. RAZLIKA - VIŠAK/MANJAK | B23: -92085.91 | E23: 20232.45 | F23: -21.97
A24: D. RASPOLOŽIVA SREDSTVA IZ PRETHODNIH GODINA
A25: VIŠAK/MANJAK PRIHODA prenešeni (+/-) | B25: 17012.09 | E25: -115689.87 | F25: 849.02
A26: VIŠAK/MANJAK PRIHODA | B26: -75073.82 | C26: 0 | D26: 0 | E26: -95457.42 | F26: 103.24 | G26: 0

Sheet P i R -Tablica 1.
A1: Članak 2.
A3: Prihodi i rashodi te primici i izdaci ostvareni su, odnosno izvršeni u 2026. godini u Računu prihoda i rashoda i Računu financiranja, uz usporedbu prethodne godine, kako slijedi:
A5: A. RAČUN PRIHODA I RASHODA
A7: Tablica 1. Izvještaj o prihodima i rashodima prema ekonomskoj klasifikaciji
A9: Brojčana oznaka i naziv računa prihoda i rashoda | B9: ='Sažetak '!B13 -> Ostvarenje / izvršenje 01.01.-30.06.2025. | C9: ='Sažetak '!C13 -> Izvorni plan 2026. | D9: ='Sažetak '!D13 -> Tekući plan 2026. | E9: ='Sažetak '!E13 -> Ostvarenje / izvršenje 01.01.-30.06.2026. | F9: Indeks % | G9: Indeks %
A10: 1 | B10: 2 | C10: 3 | D10: 4 | E10: 5 | F10: 6=5/2*100 | G10: 7=5/4*100
A11: 6 Prihodi poslovanja | B11: =B12+B19+B22+B25+B31 -> 787975.38 | C11: =C12+C19+C22+C25+C31 -> 2320578 | D11: =D12+D19+D22+D25+D31 -> 2320578 | E11: =E12+E19+E22+E25+E31 -> 842720.72 | F11: =IFERROR(E11/B11*100,"-") -> 106.9476 | G11: =IFERROR(E11/D11*100,"-") -> 36.315121
A12: 63 Pomoći iz inozemstva i od subjekata unutar općeg proračuna | B12: =B13+B16 -> 713334.67 | C12: 2184756 | D12: 2184756 | E12: =E13+E16 -> 772596.03 | F12: =IFERROR(E12/B12*100,"-") -> 108.30765 | G12: =IFERROR(E12/D12*100,"-") -> 35.363035
A13: 636 Pomoći proračunskim korisnicma iz proračuna koji im nije nadležan | B13: =B14+B15 -> 663750.05 | C13: =C14+C15 -> 0 | D13: =D14+D15 -> 0 | E13: =E14+E15 -> 733834.27 | F13: =IFERROR(E13/B13*100,"-") -> 110.55883 | G13: =IFERROR(E13/D13*100,"-") -> -
A14: 6361 Tekuće pomoći proračunskim korisnicma iz proračuna koji im nije nadležan | B14: 663750.05 | C14: 0 | D14: 0 | E14: 719706.51 | F14: =IFERROR(E14/B14*100,"-") -> 108.43035 | G14: =IFERROR(E14/D14*100,"-") -> -
A15: 6362 Kapitalne pomoći proračunskim korisnicma iz proračuna koji im nije nadležan | B15: 0 | C15: 0 | D15: 0 | E15: 14127.76 | F15: =IFERROR(E15/B15*100,"-") -> - | G15: =IFERROR(E15/D15*100,"-") -> -
A16: 639 Prijenosi između proračunskih korisnika istog proračuna | B16: =B17+B18 -> 49584.62 | C16: =C17+C18 -> 0 | D16: =D17+D18 -> 0 | E16: =E17+E18 -> 38761.76 | F16: =IFERROR(E16/B16*100,"-") -> 78.17295 | G16: =IFERROR(E16/D16*100,"-") -> -
A17: 6391 Tekući prijenosi između proračunskih korisnika istog proračuna | B17: 33315.36 | C17: 0 | D17: 0 | E17: 12444.97 | F17: =IFERROR(E17/B17*100,"-") -> 37.355052 | G17: =IFERROR(E17/D17*100,"-") -> -
A18: 6393 Tekući prijenosi između proračunskih korisnika istog proračuna temeljem prijenosa EU sredstava | B18: 16269.26 | C18: 0 | D18: 0 | E18: 26316.79 | F18: =IFERROR(E18/B18*100,"-") -> 161.75776 | G18: =IFERROR(E18/D18*100,"-") -> -
A19: 64 Prihodi od imovine | B19: =B20 -> 217.81 | C19: 530 | D19: 530 | E19: =E20 -> 202.51 | F19: =IFERROR(E19/B19*100,"-") -> 92.975529 | G19: =IFERROR(E19/D19*100,"-") -> 38.209434
A20: 641 Prihodi od financijske imovine | B20: =SUM(B21:B21) -> 217.81 | C20: =SUM(C21:C21) -> 0 | D20: =SUM(D21:D21) -> 0 | E20: =SUM(E21:E21) -> 202.51 | F20: =IFERROR(E20/B20*100,"-") -> 92.975529 | G20: =IFERROR(E20/D20*100,"-") -> -
A21: 6413 Kamate na oročena sredstva i depozite po viđenju | B21: 217.81 | C21: 0 | D21: 0 | E21: 202.51 | F21: =IFERROR(E21/B21*100,"-") -> 92.975529 | G21: =IFERROR(E21/D21*100,"-") -> -
A22: 65 Prihodi od upravnih i administrativnih pristojbi, pristojbi po posebnim propisima i naknada | B22: =B23 -> 10649.18 | C22: 30000 | D22: 30000 | E22: =E23 -> 5758.35 | F22: =IFERROR(E22/B22*100,"-") -> 54.073177 | G22: =IFERROR(E22/D22*100,"-") -> 19.1945
A23: 652 Prihodi po posebnim propisima | B23: =B24 -> 10649.18 | C23: 0 | D23: 0 | E23: =E24 -> 5758.35 | F23: =IFERROR(E23/B23*100,"-") -> 54.073177 | G23: =IFERROR(E23/D23*100,"-") -> -
A24: 6526 Ostali nespomenuti prihodi | B24: 10649.18 | C24: 0 | D24: 0 | E24: 5758.35 | F24: =IFERROR(E24/B24*100,"-") -> 54.073177 | G24: =IFERROR(E24/D24*100,"-") -> -
A25: 66 Prihodi od prodaje proizvoda i robe te pruženih usluga i prihodi od donacija te povrati po protestiranim jamstvima | B25: =B26+B29 -> 5749.19 | C25: 9670 | D25: 9670 | E25: =E26+E29 -> 5456 | F25: =IFERROR(E25/B25*100,"-") -> 94.900325 | G25: =IFERROR(E25/D25*100,"-") -> 56.421923
A26: 661 Prihodi od prodaje proizvoda i robe te pruženih usluga | B26: =B27+B28 -> 3949.19 | C26: =C27+C28 -> 0 | D26: =D27+D28 -> 0 | E26: =E27+E28 -> 3416 | F26: =IFERROR(E26/B26*100,"-") -> 86.49875 | G26: =IFERROR(E26/D26*100,"-") -> -
A27: 6614 Prihodi od prodaje proizvoda i robe | B27: 959.56 | C27: 0 | D27: 0 | E27: 0 | F27: =IFERROR(E27/B27*100,"-") -> 0 | G27: =IFERROR(E27/D27*100,"-") -> -
A28: 6615 Prihodi od pruženih usluga | B28: 2989.63 | C28: 0 | D28: 0 | E28: 3416 | F28: =IFERROR(E28/B28*100,"-") -> 114.26163 | G28: =IFERROR(E28/D28*100,"-") -> -
A29: 663 Donacije od pravnih i fizičkih osoba izvan općeg proračuna i povrat donacija po protestiranim jamstvima | B29: =B30 -> 1800 | C29: =C30 -> 0 | D29: =D30 -> 0 | E29: =E30 -> 2040 | F29: =IFERROR(E29/B29*100,"-") -> 113.33333 | G29: =IFERROR(E29/D29*100,"-") -> -
A30: 6631 Tekuće donacije | B30: 1800 | C30: 0 | D30: 0 | E30: 2040 | F30: =IFERROR(E30/B30*100,"-") -> 113.33333 | G30: =IFERROR(E30/D30*100,"-") -> -
A31: 67 Prihodi iz nadležnog proračuna i od HZZO-a temeljem ugovornih obveza | B31: =B32 -> 58024.53 | C31: 95622 | D31: 95622 | E31: =E32 -> 58707.83 | F31: =IFERROR(E31/B31*100,"-") -> 101.17761 | G31: =IFERROR(E31/D31*100,"-") -> 61.395735
A32: 671 Prihodi iz nadležnog proračuna za financiranje redovne djelatnosti proračunskih korisnika | B32: =B33+B34 -> 58024.53 | C32: =C33+C34 -> 0 | D32: =D33+D34 -> 0 | E32: =E33+E34 -> 58707.83 | F32: =IFERROR(E32/B32*100,"-") -> 101.17761 | G32: =IFERROR(E32/D32*100,"-") -> -
A33: 6711 Prihodi iz nadležnog proračuna za financiranje rashoda poslovanja | B33: 51867.25 | C33: 0 | D33: 0 | E33: 57852.83 | F33: =IFERROR(E33/B33*100,"-") -> 111.54019 | G33: =IFERROR(E33/D33*100,"-") -> -
A34: 6712 Prihodi iz nadležnog proračuna za financiranje rashoda za nabavu nefinancoijske imovine | B34: 6157.28 | C34: 0 | D34: 0 | E34: 855 | F34: =IFERROR(E34/B34*100,"-") -> 13.886002 | G34: =IFERROR(E34/D34*100,"-") -> -
A36: SVEUKUPNO PRIHODI | B36: =B11 -> 787975.38 | C36: =C11 -> 2320578 | D36: =D11 -> 2320578 | E36: =E11 -> 842720.72 | F36: =IFERROR(E36/B36*100,"-") -> 106.9476 | G36: =IFERROR(E36/D36*100,"-") -> 36.315121
A39: 3 Rashodi poslovanja | B39: =B40+B49+B79+B82+B83 -> 871410.41 | C39: =C40+C49+C79+C82+C83 -> 1731570 | D39: =D40+D49+D79+D82+D83 -> 1731570 | E39: =E40+E49+E79+E82+E83 -> 821633.27 | F39: =IFERROR(E39/B39*100,"-") -> 94.28775 | G39: =IFERROR(E39/D39*100,"-") -> 47.450191
A40: 31 Rashodi za zaposlene | B40: =B41+B45+B47 -> 750192.33 | C40: 1435675 | D40: 1435675 | E40: =E41+E45+E47 -> 702212.4 | F40: =IFERROR(E40/B40*100,"-") -> 93.604316 | G40: =IFERROR(E40/D40*100,"-") -> 48.911655
A41: 311 Plaće (Bruto) | B41: =SUM(B42:B44) -> 622230.06 | C41: =SUM(C42:C44) -> 0 | D41: =SUM(D42:D44) -> 0 | E41: =SUM(E42:E44) -> 580063.8 | F41: =IFERROR(E41/B41*100,"-") -> 93.223365 | G41: =IFERROR(E41/D41*100,"-") -> -
A42: 3111 Plaće za redovan rad | B42: 610454.24 | C42: 0 | D42: 0 | E42: 562194.83 | F42: =IFERROR(E42/B42*100,"-") -> 92.094508 | G42: =IFERROR(E42/D42*100,"-") -> -
A43: 3113 Plaće za prekovremeni rad | B43: 4165.71 | C43: 0 | D43: 0 | E43: 8074.32 | F43: =IFERROR(E43/B43*100,"-") -> 193.82818 | G43: =IFERROR(E43/D43*100,"-") -> -
A44: 3114 Plaće za posebne uvjete rada | B44: 7610.11 | C44: 0 | D44: 0 | E44: 9794.65 | F44: =IFERROR(E44/B44*100,"-") -> 128.70576 | G44: =IFERROR(E44/D44*100,"-") -> -
A45: 312 Ostali rashodi za zaposlene | B45: =B46 -> 25294.3 | C45: =C46 -> 0 | D45: =D46 -> 0 | E45: =E46 -> 26312.92 | F45: =IFERROR(E45/B45*100,"-") -> 104.02707 | G45: =IFERROR(E45/D45*100,"-") -> -
A46: 3121 Ostali rashodi za zaposlene | B46: 25294.3 | C46: 0 | D46: 0 | E46: 26312.92 | F46: =IFERROR(E46/B46*100,"-") -> 104.02707 | G46: =IFERROR(E46/D46*100,"-") -> -
A47: 313 Doprinosi na plaće | B47: =SUM(B48:B48) -> 102667.97 | C47: =SUM(C48:C48) -> 0 | D47: =SUM(D48:D48) -> 0 | E47: =SUM(E48:E48) -> 95835.68 | F47: =IFERROR(E47/B47*100,"-") -> 93.345257 | G47: =IFERROR(E47/D47*100,"-") -> -
...

Sheet P i R -Tablica 2.
A2: Tablica 2. Izvještaj o prihodima i rashodima prema izvorima financiranja
A4: Brojčana oznaka i naziv izvora financiranja | B4: ='Sažetak '!B13 -> Ostvarenje / izvršenje 01.01.-30.06.2025. | C4: ='Sažetak '!C13 -> Izvorni plan 2026. | D4: ='Sažetak '!D13 -> Tekući plan 2026. | E4: ='Sažetak '!E13 -> Ostvarenje / izvršenje 01.01.-30.06.2026. | F4: Indeks % | G4: Indeks %
A5: 1 | B5: 2 | C5: 3 | D5: 4 | E5: 5 | F5: 6=5/2*100 | G5: 7=5/4*100
A6: PRIHODI PO IZVORIMA FINANCIRANJA
A7: Izvor: 1 OPĆI PRIHODI I PRIMICI | B7: =B8 -> 36918.18 | C7: =C8 -> 109820 | D7: =D8 -> 109820 | E7: =E8 -> 22878.26 | F7: =IFERROR(E7/B7*100,"-") -> 61.970173 | G7: =IFERROR(E7/D7*100,"-") -> 20.832508
A8: Izvor: 11 Opći prihodi i primici | B8: 36918.18 | C8: 109820 | D8: 109820 | E8: 22878.26 | F8: =IFERROR(E8/B8*100,"-") -> 61.970173 | G8: =IFERROR(E8/D8*100,"-") -> 20.832508
A9: Izvor: 3 VLASTITI PRIHODI | B9: =B10 -> 4167 | C9: =C10 -> 7000 | D9: =D10 -> 7000 | E9: =E10 -> 3618.51 | F9: =IFERROR(E9/B9*100,"-") -> 86.837293 | G9: =IFERROR(E9/D9*100,"-") -> 51.693
A10: Izvor: 31 Vlastiti prihodi | B10: 4167 | C10: 7000 | D10: 7000 | E10: 3618.51 | F10: =IFERROR(E10/B10*100,"-") -> 86.837293 | G10: =IFERROR(E10/D10*100,"-") -> 51.693
A11: Izvor: 4 PRIHODI ZA POSEBNE NAMJENE | B11: =B12+B13 -> 65070.89 | C11: =C12+C13 -> 116172 | D11: =D12+D13 -> 116172 | E11: =E12+E13 -> 54032.89 | F11: =IFERROR(E11/B11*100,"-") -> 83.036962 | G11: =IFERROR(E11/D11*100,"-") -> 46.511113
A12: Izvor: 43 Ostali prihodi za posebne namjene | B12: 10649.18 | C12: 30000 | D12: 30000 | E12: 5758.35 | F12: =IFERROR(E12/B12*100,"-") -> 54.073177 | G12: =IFERROR(E12/D12*100,"-") -> 19.1945
A13: Izvor: 44 Decentralizirana sredstva | B13: 54421.71 | C13: 86172 | D13: 86172 | E13: 48274.54 | F13: =IFERROR(E13/B13*100,"-") -> 88.704563 | G13: =IFERROR(E13/D13*100,"-") -> 56.021144
A14: Izvor: 5 POMOĆI | B14: =B15+B16+B17+B18+B19 -> 680019.31 | C14: =C15+C16+C17+C18+C19 -> 2084386 | D14: =D15+D16+D17+D18+D19 -> 2084386 | E14: =E15+E16+E17+E18+E19 -> 760151.06 | F14: =IFERROR(E14/B14*100,"-") -> 111.78375 | G14: =IFERROR(E14/D14*100,"-") -> 36.468824
A15: Izvor: 50 Pomoći iz državnog proračuna | B15: 0 | C15: 24300 | D15: 24300 | E15: 0 | F15: =IFERROR(E15/B15*100,"-") -> - | G15: =IFERROR(E15/D15*100,"-") -> 0
A16: Izvor: 51 Pomoći EU | B16: 16269.26 | C16: 0 | D16: 0 | E16: 0 | F16: =IFERROR(E16/B16*100,"-") -> 0 | G16: =IFERROR(E16/D16*100,"-") -> -
A17: Izvor: 52 Ostale pomoći | B17: 663750.05 | C17: 1521668 | D17: 1521668 | E17: 733834.27 | F17: =IFERROR(E17/B17*100,"-") -> 110.55883 | G17: =IFERROR(E17/D17*100,"-") -> 48.225649
A18: Izvor: 56 Fondovi EU | B18: 0 | C18: 47010 | D18: 47010 | E18: 26316.79 | F18: =IFERROR(E18/B18*100,"-") -> - | G18: =IFERROR(E18/D18*100,"-") -> 55.981259
A19: Izvor: 58 Instrumenti EU nove generacije | B19: 0 | C19: 491408 | D19: 491408 | E19: 0 | F19: =IFERROR(E19/B19*100,"-") -> - | G19: =IFERROR(E19/D19*100,"-") -> 0
A20: Izvor: 6 DONACIJE | B20: =B21 -> 1800 | C20: =C21 -> 3200 | D20: =D21 -> 3200 | E20: =E21 -> 2040 | F20: =IFERROR(E20/B20*100,"-") -> 113.33333 | G20: =IFERROR(E20/D20*100,"-") -> 63.75
A21: Izvor: 61 Donacije | B21: 1800 | C21: 3200 | D21: 3200 | E21: 2040 | F21: =IFERROR(E21/B21*100,"-") -> 113.33333 | G21: =IFERROR(E21/D21*100,"-") -> 63.75
A23: SVEUKUPNO PRIHODI | B23: =B7+B9+B11+B14+B20 -> 787975.38 | C23: =C7+C9+C11+C14+C20 -> 2320578 | D23: =D7+D9+D11+D14+D20 -> 2320578 | E23: =E7+E9+E11+E14+E20 -> 842720.72 | F23: =IFERROR(E23/B23*100,"-") -> 106.9476 | G23: =IFERROR(E23/D23*100,"-") -> 36.315121
A27: RASHODI PO IZVORIMA FINANCIRANJA
A28: Izvor: 1 OPĆI PRIHODI I PRIMICI | B28: =B29 -> 36973.99 | C28: =C29 -> 109820 | D28: =D29 -> 109820 | E28: =E29 -> 28912.7 | F28: =IFERROR(E28/B28*100,"-") -> 78.197403 | G28: =IFERROR(E28/D28*100,"-") -> 26.327354
A29: Izvor: 11 Opći prihodi i primici | B29: 36973.99 | C29: 109820 | D29: 109820 | E29: 28912.7 | F29: =IFERROR(E29/B29*100,"-") -> 78.197403 | G29: =IFERROR(E29/D29*100,"-") -> 26.327354
A30: Izvor: 3 VLASTITI PRIHODI | B30: =B31 -> 2284.92 | C30: =C31 -> 7000 | D30: =D31 -> 7000 | E30: =E31 -> 3149.79 | F30: =IFERROR(E30/B30*100,"-") -> 137.85122 | G30: =IFERROR(E30/D30*100,"-") -> 44.997
A31: Izvor: 31 Vlastiti prihodi | B31: 2284.92 | C31: 7000 | D31: 7000 | E31: 3149.79 | F31: =IFERROR(E31/B31*100,"-") -> 137.85122 | G31: =IFERROR(E31/D31*100,"-") -> 44.997
A32: Izvor: 4 PRIHODI ZA POSEBNE NAMJENE | B32: =B33+B34 -> 56358.8 | C32: =C33+C34 -> 116172 | D32: =D33+D34 -> 116172 | E32: =E33+E34 -> 48080.88 | F32: =IFERROR(E32/B32*100,"-") -> 85.312107 | G32: =IFERROR(E32/D32*100,"-") -> 41.387667
A33: Izvor: 43 Ostali prihodi za posebne namjene | B33: 8243.38 | C33: 30000 | D33: 30000 | E33: 4315.8 | F33: =IFERROR(E33/B33*100,"-") -> 52.354738 | G33: =IFERROR(E33/D33*100,"-") -> 14.386
A34: Izvor: 44 Decentralizirana sredstva | B34: 48115.42 | C34: 86172 | D34: 86172 | E34: 43765.08 | F34: =IFERROR(E34/B34*100,"-") -> 90.958533 | G34: =IFERROR(E34/D34*100,"-") -> 50.788052
A35: Izvor: 5 POMOĆI | B35: =B36+B37+B38+B39+B40 -> 782280.9 | C35: =C36+C37+C38+C39+C40 -> 2084386 | D35: =D36+D37+D38+D39+D40 -> 2084386 | E35: =E36+E37+E38+E39+E40 -> 740304.9 | F35: =IFERROR(E35/B35*100,"-") -> 94.634153 | G35: =IFERROR(E35/D35*100,"-") -> 35.516689
A36: Izvor: 50 Pomoći iz državnog proračuna | B36: 0 | C36: 24300 | D36: 24300 | E36: 0 | F36: =IFERROR(E36/B36*100,"-") -> - | G36: =IFERROR(E36/D36*100,"-") -> 0
A37: Izvor: 51 Pomoći EU | B37: 16269.26 | C37: 0 | D37: 0 | E37: 0 | F37: =IFERROR(E37/B37*100,"-") -> 0 | G37: =IFERROR(E37/D37*100,"-") -> -
A38: Izvor: 52 Ostale pomoći | B38: 766011.64 | C38: 1521668 | D38: 1521668 | E38: 720421.58 | F38: =IFERROR(E38/B38*100,"-") -> 94.048385 | G38: =IFERROR(E38/D38*100,"-") -> 47.344203
A39: Izvor: 56 Fondovi EU | B39: 0 | C39: 47010 | D39: 47010 | E39: 19883.32 | F39: =IFERROR(E39/B39*100,"-") -> - | G39: =IFERROR(E39/D39*100,"-") -> 42.295937
A40: Izvor: 58 Instrumenti EU nove generacije | B40: 0 | C40: 491408 | D40: 491408 | E40: 0 | F40: =IFERROR(E40/B40*100,"-") -> - | G40: =IFERROR(E40/D40*100,"-") -> 0
A41: Izvor: 6 DONACIJE | B41: =B42 -> 2162.68 | C41: =C42 -> 3200 | D41: =D42 -> 3200 | E41: =E42 -> 2040 | F41: =IFERROR(E41/B41*100,"-") -> 94.327409 | G41: =IFERROR(E41/D41*100,"-") -> 63.75
A42: Izvor: 61 Donacije | B42: 2162.68 | C42: 3200 | D42: 3200 | E42: 2040 | F42: =IFERROR(E42/B42*100,"-") -> 94.327409 | G42: =IFERROR(E42/D42*100,"-") -> 63.75
A44: SVEUKUPNO RASHODI | B44: =B28+B30+B32+B35+B41 -> 880061.29 | C44: =C28+C30+C32+C35+C41 -> 2320578 | D44: =D28+D30+D32+D35+D41 -> 2320578 | E44: =E28+E30+E32+E35+E41 -> 822488.27 | F44: =IFERROR(E44/B44*100,"-") -> 93.458067 | G44: =IFERROR(E44/D44*100,"-") -> 35.44325

Sheet R -Tablica 3.
A1: Tablica 3. Izvještaj o rashodima prema funkcijskoj klasifikaciji
A3: Brojčana oznaka i naziv funkcijske klasifikacije | B3: Izvršenje 01.01.-30.06.2025. | C3: ='Sažetak '!C13 -> Izvorni plan 2026. | D3: ='Sažetak '!D13 -> Tekući plan 2026. | E3: Izvršenje 01.01.-30.06.2026. | F3: Indeks % | G3: Indeks %
A4: 1 | B4: 2 | C4: 3 | D4: 4 | E4: 5 | F4: 6=5/2*100 | G4: 7=5/4*100
A5: RASHODI PREMA FUNKCIJSKOJ KLASIFIKACIJI
A6: Funk. klas: 09 Obrazovanje | B6: =SUM(B7:B9) -> 880061.29 | C6: =SUM(C7:C9) -> 2320578 | D6: =SUM(D7:D9) -> 2320578 | E6: =SUM(E7:E9) -> 822488.27 | F6: =IFERROR(E6/B6*100,"-") -> 93.458067 | G6: =IFERROR(E6/D6*100,"-") -> 35.44325
A7: 091 Predškolsko i osnovno obrazovanje | B7: 880061.29 | C7: 2319910 | D7: 2319910 | E7: 822488.27 | F7: =IFERROR(E7/B7*100,"-") -> 93.458067 | G7: =IFERROR(E7/D7*100,"-") -> 35.453456
A8: 095 Obrazovanje koje se ne može definirati po stupnju | B8: 0 | C8: 148 | D8: 148 | E8: 0 | F8: =IFERROR(E8/B8*100,"-") -> - | G8: =IFERROR(E8/D8*100,"-") -> 0
A9: 098 Usluge obrazovanja koje nisu drugdje svrstane | B9: 0 | C9: 520 | D9: 520 | E9: 0 | F9: =IFERROR(E9/B9*100,"-") -> - | G9: =IFERROR(E9/D9*100,"-") -> 0
A10: SVEUKUPNO RASHODI | B10: =B6 -> 880061.29 | C10: =C6 -> 2320578 | D10: =D6 -> 2320578 | E10: =E6 -> 822488.27 | F10: =IFERROR(E10/B10*100,"-") -> 93.458067 | G10: =IFERROR(E10/D10*100,"-") -> 35.44325

Sheet Rač fin-Tablica 4.
A1: B. RAČUN FINANCIRANJA
A3: Tablica 4. Izvještaj računa financiranja prema ekonomskoj klasifikaciji
A5: Brojčana oznaka i naziv računa primitaka i izdataka | B5: ='Sažetak '!B13 -> Ostvarenje / izvršenje 01.01.-30.06.2025. | C5: ='Sažetak '!C13 -> Izvorni plan 2026. | D5: ='Sažetak '!D13 -> Tekući plan 2026. | E5: ='Sažetak '!E13 -> Ostvarenje / izvršenje 01.01.-30.06.2026. | F5: Indeks % | G5: Indeks %
A6: 1 | B6: 2 | C6: 3 | D6: 4 | E6: 5 | F6: 6=5/2*100 | G6: 7=5/4*100
A7: 8 Primici od financijske imovine i zaduživanja
A8: 84 Primici od zaduživanja | B8: =B9+B11 -> 0 | C8: =C9+C11 -> 0 | D8: =D9+D11 -> 0 | E8: =E9+E11 -> 0 | F8: =IFERROR(E8/B8*100,"-") -> - | G8: =IFERROR(E8/D8*100,"-") -> -
A9: 842 Primljeni krediti i zajmovi od kreditnih i ostalih financijskih institucija u javnom sektoru | B9: =B10 -> 0 | C9: =C10 -> 0 | D9: =D10 -> 0 | E9: =E10 -> 0 | F9: =IFERROR(E9/B9*100,"-") -> - | G9: =IFERROR(E9/D9*100,"-") -> -
A10: 8422 Primljeni krediti od kreditnih institucija u javnom sektoru | B10: 0 | C10: 0 | D10: 0 | E10: 0 | F10: =IFERROR(E10/B10*100,"-") -> - | G10: =IFERROR(E10/D10*100,"-") -> -
A11: 844 Primljeni krediti i zajmovi od kreditnih i ostalih financijskih institucija izvan javnog sektora | B11: =B12 -> 0 | C11: =C12 -> 0 | D11: =D12 -> 0 | E11: =E12 -> 0 | F11: =IFERROR(E11/B11*100,"-") -> - | G11: =IFERROR(E11/D11*100,"-") -> -
A12: 8443 Primljeni krediti od tuzemnih kreditnih institucija izvan javnog sektora | B12: 0 | C12: 0 | D12: 0 | E12: 0 | F12: =IFERROR(E12/B12*100,"-") -> - | G12: =IFERROR(E12/D12*100,"-") -> -
A14: SVEUKUPNO PRIMICI | B14: =B8 -> 0 | C14: =C8 -> 0 | D14: =D8 -> 0 | E14: =E8 -> 0 | F14: =IFERROR(E14/B14*100,"-") -> - | G14: =IFERROR(E14/D14*100,"-") -> -
A16: 5 Izdaci za financijsku imovinu i otplate zajmova | F16: =IFERROR(E16/B16*100,"-") -> - | G16: =IFERROR(E16/D16*100,"-") -> -
A17: 54 Izdaci za otplatu glavnice primljenih kredita i zajmova | B17: =B18+B20 -> 0 | C17: =C18+C20 -> 0 | D17: =D18+D20 -> 0 | E17: =E18+E20 -> 0 | F17: =IFERROR(E17/B17*100,"-") -> - | G17: =IFERROR(E17/D17*100,"-") -> -
A18: 542 Otplata glavnice primljenih kredita i zajmova od kreditnih i ostalih financijskih institucija u javnom sektoru | B18: =B19 -> 0 | C18: =C19 -> 0 | D18: =D19 -> 0 | E18: =E19 -> 0 | F18: =IFERROR(E18/B18*100,"-") -> - | G18: =IFERROR(E18/D18*100,"-") -> -
A19: 5422 Otplata glavnice primljenih kredita od kreditnih institucija u javnom sektoru | B19: 0 | C19: 0 | D19: 0 | E19: 0 | F19: =IFERROR(E19/B19*100,"-") -> - | G19: =IFERROR(E19/D19*100,"-") -> -
A20: 544 Otplata glavnice primljenih kredita i zajmova od kreditnih i ostalih financijskih institucija izvan javnog sektora | B20: =B21+B22 -> 0 | C20: =C21+C22 -> 0 | D20: =D21+D22 -> 0 | E20: =E21+E22 -> 0 | F20: =IFERROR(E20/B20*100,"-") -> - | G20: =IFERROR(E20/D20*100,"-") -> -
A21: 5443 Otplata glavnice primljenih kredita od tuzemnih kreditnih institucija izvan javnog sektora | B21: 0 | C21: 0 | D21: 0 | E21: 0 | F21: =IFERROR(E21/B21*100,"-") -> - | G21: =IFERROR(E21/D21*100,"-") -> -
A22: 5445 Otplata glavnice primljenih zajmova od ostalih tuzemnih financijskih institucija izvan javnog sektora | B22: 0 | C22: 0 | D22: 0 | E22: 0 | F22: =IFERROR(E22/B22*100,"-") -> - | G22: =IFERROR(E22/D22*100,"-") -> -
A24: SVEUKUPNO IZDACI | B24: =B17 -> 0 | C24: =C17 -> 0 | D24: =D17 -> 0 | E24: =E17 -> 0 | F24: =IFERROR(E24/B24*100,"-") -> - | G24: =IFERROR(E24/D24*100,"-") -> -

Sheet Rač fin-Tablica 5.
A1: Tablica 5. Izvještaj računa financiranja prema izvorima financiranja
A3: Brojčana oznaka i naziv izvora financiranja | B3: ='Sažetak '!B13 -> Ostvarenje / izvršenje 01.01.-30.06.2025. | C3: ='Sažetak '!C13 -> Izvorni plan 2026. | D3: ='Sažetak '!D13 -> Tekući plan 2026. | E3: ='Sažetak '!E13 -> Ostvarenje / izvršenje 01.01.-30.06.2026. | F3: Indeks % | G3: Indeks %
A4: 1 | B4: 2 | C4: 3 | D4: 4 | E4: 5 | F4: 6=5/2*100 | G4: 7=5/4*100
A5: PRIMICI PO IZVORIMA FINANCIRANJA
A6: Izvor: 1 OPĆI PRIHODI I PRIMICI | B6: =B7 -> 0 | C6: =C7 -> 0 | D6: =D7 -> 0 | E6: =E7 -> 0 | F6: =IFERROR(E6/B6*100,"-") -> - | G6: =IFERROR(E6/D6*100,"-") -> -
A7: Izvor: 11 Opći prihodi i primici | B7: 0 | C7: 0 | D7: 0 | E7: 0 | F7: =IFERROR(E7/B7*100,"-") -> - | G7: =IFERROR(E7/D7*100,"-") -> -
A8: Izvor: 4 PRIHODI ZA POSEBNE NAMJENE | B8: =B9 -> 0 | C8: =C9 -> 0 | D8: =D9 -> 0 | E8: =E9 -> 0 | F8: =IFERROR(E8/B8*100,"-") -> - | G8: =IFERROR(E8/D8*100,"-") -> -
A9: Izvor: 43 Ostali prihodi za posebne namjene | B9: 0 | C9: 0 | D9: 0 | E9: 0 | F9: =IFERROR(E9/B9*100,"-") -> - | G9: =IFERROR(E9/D9*100,"-") -> -
A10: Izvor: 8 NAMJENSKI PRIMICI OD ZADUŽIVANJA | B10: =B11 -> 0 | C10: =C11 -> 0 | D10: =D11 -> 0 | E10: =E11 -> 0 | F10: =IFERROR(E10/B10*100,"-") -> - | G10: =IFERROR(E10/D10*100,"-") -> -
A11: Izvor: 81 Namjenski primici od zaduživanja | B11: 0 | C11: 0 | D11: 0 | E11: 0 | F11: =IFERROR(E11/B11*100,"-") -> - | G11: =IFERROR(E11/D11*100,"-") -> -
A13: SVEUKUPNO PRIMICI | B13: =B6+B8+B10 -> 0 | C13: =C6+C8+C10 -> 0 | D13: =D6+D8+D10 -> 0 | E13: =E6+E8+E10 -> 0 | F13: =IFERROR(E13/B13*100,"-") -> - | G13: =IFERROR(E13/D13*100,"-") -> -
A16: IZDACI PO IZVORIMA FINANCIRANJA
A17: Izvor: 1 OPĆI PRIHODI I PRIMICI | B17: =B18 -> 0 | C17: =C18 -> 0 | D17: =D18 -> 0 | E17: =E18 -> 0 | F17: =IFERROR(E17/B17*100,"-") -> - | G17: =IFERROR(E17/D17*100,"-") -> -
A18: Izvor: 11 Opći prihodi i primici | B18: 0 | C18: 0 | D18: 0 | E18: 0 | F18: =IFERROR(E18/B18*100,"-") -> - | G18: =IFERROR(E18/D18*100,"-") -> -
A19: Izvor: 4 PRIHODI ZA POSEBNE NAMJENE | B19: =B20+B21 -> 0 | C19: =C20+C21 -> 0 | D19: =D20+D21 -> 0 | E19: =E20+E21 -> 0 | F19: =IFERROR(E19/B19*100,"-") -> - | G19: =IFERROR(E19/D19*100,"-") -> -
A20: Izvor: 43 Ostali prihodi za posebne namjene | B20: 0 | C20: 0 | D20: 0 | E20: 0 | F20: =IFERROR(E20/B20*100,"-") -> - | G20: =IFERROR(E20/D20*100,"-") -> -
A21: Izvor: 44 Decentralizirana sredstva | B21: 0 | C21: 0 | D21: 0 | E21: 0 | F21: =IFERROR(E21/B21*100,"-") -> - | G21: =IFERROR(E21/D21*100,"-") -> -
A23: SVEUKUPNO IZDACI | B23: =B17+B19 -> 0 | C23: =C17+C19 -> 0 | D23: =D17+D19 -> 0 | E23: =E17+E19 -> 0 | F23: =IFERROR(E23/B23*100,"-") -> - | G23: =IFERROR(E23/D23*100,"-") -> -

Sheet Posebni dio- tablica 6
A1: II. POSEBNI DIO
A3: Članak 3.
A5: Rashodi i izdaci u Posebnom dijelu Financijskog plana iskazani po organizacijskoj i programskoj klasifikaciji, izvršeni su kako slijedi:
A7: Tablica 6. Izvještaj po programskoj klasifikaciji
A8: Opis | B8: Izvorni plan 2026. | C8: Tekući plan 2026. | D8: Ostvarenje/izvršenje 01.01.-30.06.2026. | E8: Indeks %
B9: 1 | C9: 2 | D9: 3 | E9: 4=3/2*100
A10: SVEUKUPNO | B10: 2320578 | C10: 2320578 | D10: 822488.27 | E10: 35.44
A11: Razdjel: 015 UPRAVNI ODJEL ZA PROSVJETU, KULTURU I SPORT | B11: 2320578 | C11: 2320578 | D11: 822488.27 | E11: 35.44
A12: Glava: 01502 OSNOVNOŠKOLSKO OBRAZOVANJE | B12: 2320578 | C12: 2320578 | D12: 822488.27 | E12: 35.44
A13: 14120 OŠ VINICA | B13: 2320578 | C13: 2320578 | D13: 822488.27 | E13: 35.44
A14: Program: 1140 PROGRAMI EUROPSKIH POSLOVA | B14: 663088 | C14: 663088 | D14: 45176.02 | E14: 6.81
A15: K114032 OŠ Vinica, PŠ Ladanje Gornje - NPOO | B15: 571408 | C15: 571408 | D15: 0 | E15: 0
A16: Izvor: 11 Opći prihodi i primici | B16: 79000 | C16: 79000 | D16: 0 | E16: 0
A17: 32 Materijalni rashodi | B17: 1000 | C17: 1000 | D17: 0 | E17: 0
A18: 45 Rashodi za dodatna ulaganja na nefinancijskoj imovini | B18: 78000 | C18: 78000 | D18: 0 | E18: 0
A19: Izvor: 44 Decentralizirana sredstva | B19: 1000 | C19: 1000 | D19: 0 | E19: 0
A20: 45 Rashodi za dodatna ulaganja na nefinancijskoj imovini | B20: 1000 | C20: 1000 | D20: 0 | E20: 0
A21: Izvor: 58 Instrumenti EU nove generacije | B21: 491408 | C21: 491408 | D21: 0 | E21: 0
... A154: 42 Rashodi za nabavu proizvedene dugotrajne imovine | B154: 3000 | C154: 3000 | D154: 0 | E154: 0
A156: Polugodišnji izvještaj o izvršenju Financijskog plana za 2026. godinu objavljuje se na mrežnoj stranici Škole.
A159: KLASA: 402-04/26-01/1 | C159: PREDSJEDNICA ŠKOLSKOG ODBORA
A160: URBROJ: 2186-142-01-26-09 | C160: Ljiljana Pavlović
A161: Vinica, 27.07.2026. godine
